Workbook
Name all_2017_05_03: Judokas!#REF!
Name DL_I: #REF!
Name DL_I: #REF!
Name DL_kluby_I: #REF!
Name DL_kluby_I: #REF!
Name DL_kluby_II: #REF!
Name DL_kluby_II: #REF!
Name Dr_postup: #REF!
Name Dr_postup: #REF!
Name Dr_sestup: #REF!
Name Dr_sestup: #REF!
Name Interliga: #REF!
Name Interliga: #REF!
Name Interliga1: #REF!
Name Interliga1: #REF!
Name Interliga2: #REF!
Name Interliga2: #REF!
Name Interliga3: #REF!
Name Interliga3: #REF!
Name JJGHIH: #REF!
Name JJGHIH: #REF!
Name mb: #REF!
Name mb: #REF!
Name PO: #REF!
Name PO: #REF!
Name user_2014_11_20: Judokas!#REF!
Name Zápasy: #REF!
Name Zápasy: #REF!
Name zapis: 'Zadání judistů'!$E$2:$I$36

Sheet Zadání judistů
A1: ID | B1: Příjmení a jméno | C1: Č. | D1: ID | E1: Jméno a příjmení | F1: Rok nar | G1: Kategorie | H1: Pohlaví | I1: Klub | K1: Váha
A2: 34740 | C2: 1 | D2: =IF(A2>0,VLOOKUP(A2,Judokas!A:E,1,FALSE),VLOOKUP(B2,Judokas!B:E,3,FALSE)) -> 34740 | E2: =IF(A2>0,VLOOKUP(A2,Judokas!A:E,2,FALSE),VLOOKUP(B2,Judokas!B:E,1,FALSE)) -> Klíma Miroslav | F2: =IF(A2>0,VLOOKUP(A2,Judokas!A:E,3,FALSE),VLOOKUP(B2,Judokas!B:E,2,FALSE)) -> 1977 | G2: =IF(E2>0,VLOOKUP(J2,Kategorie!A:B,2,FALSE)," ") -> Muži | H2: =IF(A2>0,VLOOKUP(A2,Judokas!A:G,6,FALSE),VLOOKUP(B2,Judokas!B:G,5,FALSE)) -> M | I2: =IF(A2>0,VLOOKUP(A2,Judokas!A:G,5,FALSE),VLOOKUP(B2,Judokas!B:G,4,FALSE)) -> BeF Home Blansko z.s. | J2: =F2&H2 -> 1977M | K2: 73.1
B3: Klíma Miroslav | C3: 2 | D3: =IF(A3>0,VLOOKUP(A3,Judokas!A:E,1,FALSE),VLOOKUP(B3,Judokas!B:E,3,FALSE)) -> 34740 | E3: =IF(A3>0,VLOOKUP(A3,Judokas!A:E,2,FALSE),VLOOKUP(B3,Judokas!B:E,1,FALSE)) -> Klíma Miroslav | F3: =IF(A3>0,VLOOKUP(A3,Judokas!A:E,3,FALSE),VLOOKUP(B3,Judokas!B:E,2,FALSE)) -> 1977 | G3: =IF(E3>0,VLOOKUP(J3,Kategorie!A:B,2,FALSE)," ") -> Muži | H3: =IF(A3>0,VLOOKUP(A3,Judokas!A:G,6,FALSE),VLOOKUP(B3,Judokas!B:G,5,FALSE)) -> M | I3: =IF(A3>0,VLOOKUP(A3,Judokas!A:G,5,FALSE),VLOOKUP(B3,Judokas!B:G,4,FALSE)) -> BeF Home Blansko z.s. | J3: =F3&H3 -> 1977M | K3: 73.1
C4: 3 | D4: =IF(A4>0,VLOOKUP(A4,Judokas!A:E,1,FALSE),VLOOKUP(B4,Judokas!B:E,3,FALSE)) -> #N/A | E4: =IF(A4>0,VLOOKUP(A4,Judokas!A:E,2,FALSE),VLOOKUP(B4,Judokas!B:E,1,FALSE)) -> #N/A | F4: =IF(A4>0,VLOOKUP(A4,Judokas!A:E,3,FALSE),VLOOKUP(B4,Judokas!B:E,2,FALSE)) -> #N/A | G4: =IF(E4>0,VLOOKUP(J4,Kategorie!A:B,2,FALSE)," ") -> #N/A | H4: =IF(A4>0,VLOOKUP(A4,Judokas!A:G,6,FALSE),VLOOKUP(B4,Judokas!B:G,5,FALSE)) -> #N/A | I4: =IF(A4>0,VLOOKUP(A4,Judokas!A:G,5,FALSE),VLOOKUP(B4,Judokas!B:G,4,FALSE)) -> #N/A | J4: =F4&H4 -> #N/A
C5: 4 | D5: =IF(A5>0,VLOOKUP(A5,Judokas!A:E,1,FALSE),VLOOKUP(B5,Judokas!B:E,3,FALSE)) -> #N/A | E5: =IF(A5>0,VLOOKUP(A5,Judokas!A:E,2,FALSE),VLOOKUP(B5,Judokas!B:E,1,FALSE)) -> #N/A | F5: =IF(A5>0,VLOOKUP(A5,Judokas!A:E,3,FALSE),VLOOKUP(B5,Judokas!B:E,2,FALSE)) -> #N/A | G5: =IF(E5>0,VLOOKUP(J5,Kategorie!A:B,2,FALSE)," ") -> #N/A | H5: =IF(A5>0,VLOOKUP(A5,Judokas!A:G,6,FALSE),VLOOKUP(B5,Judokas!B:G,5,FALSE)) -> #N/A | I5: =IF(A5>0,VLOOKUP(A5,Judokas!A:G,5,FALSE),VLOOKUP(B5,Judokas!B:G,4,FALSE)) -> #N/A | J5: =F5&H5 -> #N/A
C6: 5 | D6: =IF(A6>0,VLOOKUP(A6,Judokas!A:E,1,FALSE),VLOOKUP(B6,Judokas!B:E,3,FALSE)) -> #N/A | E6: =IF(A6>0,VLOOKUP(A6,Judokas!A:E,2,FALSE),VLOOKUP(B6,Judokas!B:E,1,FALSE)) -> #N/A | F6: =IF(A6>0,VLOOKUP(A6,Judokas!A:E,3,FALSE),VLOOKUP(B6,Judokas!B:E,2,FALSE)) -> #N/A | G6: =IF(E6>0,VLOOKUP(J6,Kategorie!A:B,2,FALSE)," ") -> #N/A | H6: =IF(A6>0,VLOOKUP(A6,Judokas!A:G,6,FALSE),VLOOKUP(B6,Judokas!B:G,5,FALSE)) -> #N/A | I6: =IF(A6>0,VLOOKUP(A6,Judokas!A:G,5,FALSE),VLOOKUP(B6,Judokas!B:G,4,FALSE)) -> #N/A | J6: =F6&H6 -> #N/A
C7: 6 | D7: =IF(A7>0,VLOOKUP(A7,Judokas!A:E,1,FALSE),VLOOKUP(B7,Judokas!B:E,3,FALSE)) -> #N/A | E7: =IF(A7>0,VLOOKUP(A7,Judokas!A:E,2,FALSE),VLOOKUP(B7,Judokas!B:E,1,FALSE)) -> #N/A | F7: =IF(A7>0,VLOOKUP(A7,Judokas!A:E,3,FALSE),VLOOKUP(B7,Judokas!B:E,2,FALSE)) -> #N/A | G7: =IF(E7>0,VLOOKUP(J7,Kategorie!A:B,2,FALSE)," ") -> #N/A | H7: =IF(A7>0,VLOOKUP(A7,Judokas!A:G,6,FALSE),VLOOKUP(B7,Judokas!B:G,5,FALSE)) -> #N/A | I7: =IF(A7>0,VLOOKUP(A7,Judokas!A:G,5,FALSE),VLOOKUP(B7,Judokas!B:G,4,FALSE)) -> #N/A | J7: =F7&H7 -> #N/A
C8: 7 | D8: =IF(A8>0,VLOOKUP(A8,Judokas!A:E,1,FALSE),VLOOKUP(B8,Judokas!B:E,3,FALSE)) -> #N/A | E8: =IF(A8>0,VLOOKUP(A8,Judokas!A:E,2,FALSE),VLOOKUP(B8,Judokas!B:E,1,FALSE)) -> #N/A | F8: =IF(A8>0,VLOOKUP(A8,Judokas!A:E,3,FALSE),VLOOKUP(B8,Judokas!B:E,2,FALSE)) -> #N/A | G8: =IF(E8>0,VLOOKUP(J8,Kategorie!A:B,2,FALSE)," ") -> #N/A | H8: =IF(A8>0,VLOOKUP(A8,Judokas!A:G,6,FALSE),VLOOKUP(B8,Judokas!B:G,5,FALSE)) -> #N/A | I8: =IF(A8>0,VLOOKUP(A8,Judokas!A:G,5,FALSE),VLOOKUP(B8,Judokas!B:G,4,FALSE)) -> #N/A | J8: =F8&H8 -> #N/A
C9: 8 | D9: =IF(A9>0,VLOOKUP(A9,Judokas!A:E,1,FALSE),VLOOKUP(B9,Judokas!B:E,3,FALSE)) -> #N/A | E9: =IF(A9>0,VLOOKUP(A9,Judokas!A:E,2,FALSE),VLOOKUP(B9,Judokas!B:E,1,FALSE)) -> #N/A | F9: =IF(A9>0,VLOOKUP(A9,Judokas!A:E,3,FALSE),VLOOKUP(B9,Judokas!B:E,2,FALSE)) -> #N/A | G9: =IF(E9>0,VLOOKUP(J9,Kategorie!A:B,2,FALSE)," ") -> #N/A | H9: =IF(A9>0,VLOOKUP(A9,Judokas!A:G,6,FALSE),VLOOKUP(B9,Judokas!B:G,5,FALSE)) -> #N/A | I9: =IF(A9>0,VLOOKUP(A9,Judokas!A:G,5,FALSE),VLOOKUP(B9,Judokas!B:G,4,FALSE)) -> #N/A | J9: =F9&H9 -> #N/A
C10: 9 | D10: =IF(A10>0,VLOOKUP(A10,Judokas!A:E,1,FALSE),VLOOKUP(B10,Judokas!B:E,3,FALSE)) -> #N/A | E10: =IF(A10>0,VLOOKUP(A10,Judokas!A:E,2,FALSE),VLOOKUP(B10,Judokas!B:E,1,FALSE)) -> #N/A | F10: =IF(A10>0,VLOOKUP(A10,Judokas!A:E,3,FALSE),VLOOKUP(B10,Judokas!B:E,2,FALSE)) -> #N/A | G10: =IF(E10>0,VLOOKUP(J10,Kategorie!A:B,2,FALSE)," ") -> #N/A | H10: =IF(A10>0,VLOOKUP(A10,Judokas!A:G,6,FALSE),VLOOKUP(B10,Judokas!B:G,5,FALSE)) -> #N/A | I10: =IF(A10>0,VLOOKUP(A10,Judokas!A:G,5,FALSE),VLOOKUP(B10,Judokas!B:G,4,FALSE)) -> #N/A | J10: =F10&H10 -> #N/A
C11: 10 | D11: =IF(A11>0,VLOOKUP(A11,Judokas!A:E,1,FALSE),VLOOKUP(B11,Judokas!B:E,3,FALSE)) -> #N/A | E11: =IF(A11>0,VLOOKUP(A11,Judokas!A:E,2,FALSE),VLOOKUP(B11,Judokas!B:E,1,FALSE)) -> #N/A | F11: =IF(A11>0,VLOOKUP(A11,Judokas!A:E,3,FALSE),VLOOKUP(B11,Judokas!B:E,2,FALSE)) -> #N/A | G11: =IF(E11>0,VLOOKUP(J11,Kategorie!A:B,2,FALSE)," ") -> #N/A | H11: =IF(A11>0,VLOOKUP(A11,Judokas!A:G,6,FALSE),VLOOKUP(B11,Judokas!B:G,5,FALSE)) -> #N/A | I11: =IF(A11>0,VLOOKUP(A11,Judokas!A:G,5,FALSE),VLOOKUP(B11,Judokas!B:G,4,FALSE)) -> #N/A | J11: =F11&H11 -> #N/A
C12: 11 | D12: =IF(A12>0,VLOOKUP(A12,Judokas!A:E,1,FALSE),VLOOKUP(B12,Judokas!B:E,3,FALSE)) -> #N/A | E12: =IF(A12>0,VLOOKUP(A12,Judokas!A:E,2,FALSE),VLOOKUP(B12,Judokas!B:E,1,FALSE)) -> #N/A | F12: =IF(A12>0,VLOOKUP(A12,Judokas!A:E,3,FALSE),VLOOKUP(B12,Judokas!B:E,2,FALSE)) -> #N/A | G12: =IF(E12>0,VLOOKUP(J12,Kategorie!A:B,2,FALSE)," ") -> #N/A | H12: =IF(A12>0,VLOOKUP(A12,Judokas!A:G,6,FALSE),VLOOKUP(B12,Judokas!B:G,5,FALSE)) -> #N/A | I12: =IF(A12>0,VLOOKUP(A12,Judokas!A:G,5,FALSE),VLOOKUP(B12,Judokas!B:G,4,FALSE)) -> #N/A | J12: =F12&H12 -> #N/A
C13: 12 | D13: =IF(A13>0,VLOOKUP(A13,Judokas!A:E,1,FALSE),VLOOKUP(B13,Judokas!B:E,3,FALSE)) -> #N/A | E13: =IF(A13>0,VLOOKUP(A13,Judokas!A:E,2,FALSE),VLOOKUP(B13,Judokas!B:E,1,FALSE)) -> #N/A | F13: =IF(A13>0,VLOOKUP(A13,Judokas!A:E,3,FALSE),VLOOKUP(B13,Judokas!B:E,2,FALSE)) -> #N/A | G13: =IF(E13>0,VLOOKUP(J13,Kategorie!A:B,2,FALSE)," ") -> #N/A | H13: =IF(A13>0,VLOOKUP(A13,Judokas!A:G,6,FALSE),VLOOKUP(B13,Judokas!B:G,5,FALSE)) -> #N/A | I13: =IF(A13>0,VLOOKUP(A13,Judokas!A:G,5,FALSE),VLOOKUP(B13,Judokas!B:G,4,FALSE)) -> #N/A | J13: =F13&H13 -> #N/A
C14: 13 | D14: =IF(A14>0,VLOOKUP(A14,Judokas!A:E,1,FALSE),VLOOKUP(B14,Judokas!B:E,3,FALSE)) -> #N/A | E14: =IF(A14>0,VLOOKUP(A14,Judokas!A:E,2,FALSE),VLOOKUP(B14,Judokas!B:E,1,FALSE)) -> #N/A | F14: =IF(A14>0,VLOOKUP(A14,Judokas!A:E,3,FALSE),VLOOKUP(B14,Judokas!B:E,2,FALSE)) -> #N/A | G14: =IF(E14>0,VLOOKUP(J14,Kategorie!A:B,2,FALSE)," ") -> #N/A | H14: =IF(A14>0,VLOOKUP(A14,Judokas!A:G,6,FALSE),VLOOKUP(B14,Judokas!B:G,5,FALSE)) -> #N/A | I14: =IF(A14>0,VLOOKUP(A14,Judokas!A:G,5,FALSE),VLOOKUP(B14,Judokas!B:G,4,FALSE)) -> #N/A | J14: =F14&H14 -> #N/A
C15: 14 | D15: =IF(A15>0,VLOOKUP(A15,Judokas!A:E,1,FALSE),VLOOKUP(B15,Judokas!B:E,3,FALSE)) -> #N/A | E15: =IF(A15>0,VLOOKUP(A15,Judokas!A:E,2,FALSE),VLOOKUP(B15,Judokas!B:E,1,FALSE)) -> #N/A | F15: =IF(A15>0,VLOOKUP(A15,Judokas!A:E,3,FALSE),VLOOKUP(B15,Judokas!B:E,2,FALSE)) -> #N/A | G15: =IF(E15>0,VLOOKUP(J15,Kategorie!A:B,2,FALSE)," ") -> #N/A | H15: =IF(A15>0,VLOOKUP(A15,Judokas!A:G,6,FALSE),VLOOKUP(B15,Judokas!B:G,5,FALSE)) -> #N/A | I15: =IF(A15>0,VLOOKUP(A15,Judokas!A:G,5,FALSE),VLOOKUP(B15,Judokas!B:G,4,FALSE)) -> #N/A | J15: =F15&H15 -> #N/A
... C36: 35 | D36: =IF(A36>0,VLOOKUP(A36,Judokas!A:E,1,FALSE),VLOOKUP(B36,Judokas!B:E,3,FALSE)) -> #N/A | E36: =IF(A36>0,VLOOKUP(A36,Judokas!A:E,2,FALSE),VLOOKUP(B36,Judokas!B:E,1,FALSE)) -> #N/A | F36: =IF(A36>0,VLOOKUP(A36,Judokas!A:E,3,FALSE),VLOOKUP(B36,Judokas!B:E,2,FALSE)) -> #N/A | G36: =IF(E36>0,VLOOKUP(J36,Kategorie!A:B,2,FALSE)," ") -> #N/A | H36: =IF(A36>0,VLOOKUP(A36,Judokas!A:G,6,FALSE),VLOOKUP(B36,Judokas!B:G,5,FALSE)) -> #N/A | I36: =IF(A36>0,VLOOKUP(A36,Judokas!A:G,5,FALSE),VLOOKUP(B36,Judokas!B:G,4,FALSE)) -> #N/A | J36: =F36&H36 -> #N/A
C37: Vedoucí družstva
C38: Telefon na vedoucího | D38: Telefon vedoucího | F38: Vážil/a rozhodčí: | I38: Zváženo dne: | K38: 45247
D39: Pro případné upřesnění losování, …

Sheet Zahraniční závodníci
A1: Č. | B1: Jméno a příjmení | C1: Rok nar | D1: Kategorie | E1: Pohlaví (M/F) | F1: Klub | H1: Váha
A2: 1 | B2: Klíma Miroslav | C2: 1977 | D2: =IF(B2>0,VLOOKUP(G2,Kategorie!A:B,2,FALSE)," ") -> Muži | E2: M | F2: BeF Home Blansko z.s. | G2: =C2&E2 -> 1977M | H2: 73.1
A3: 2 | D3: =IF(B3>0,VLOOKUP(G3,Kategorie!A:B,2,FALSE)," ") | G3: =C3&E3
A4: 3 | D4: =IF(B4>0,VLOOKUP(G4,Kategorie!A:B,2,FALSE)," ") | G4: =C4&E4
A5: 4 | D5: =IF(B5>0,VLOOKUP(G5,Kategorie!A:B,2,FALSE)," ") | G5: =C5&E5
A6: 5 | D6: =IF(B6>0,VLOOKUP(G6,Kategorie!A:B,2,FALSE)," ") | G6: =C6&E6
A7: 6 | D7: =IF(B7>0,VLOOKUP(G7,Kategorie!A:B,2,FALSE)," ") | G7: =C7&E7
A8: 7 | D8: =IF(B8>0,VLOOKUP(G8,Kategorie!A:B,2,FALSE)," ") | G8: =C8&E8
A9: 8 | D9: =IF(B9>0,VLOOKUP(G9,Kategorie!A:B,2,FALSE)," ") | G9: =C9&E9
A10: 9 | D10: =IF(B10>0,VLOOKUP(G10,Kategorie!A:B,2,FALSE)," ") | G10: =C10&E10
A11: 10 | D11: =IF(B11>0,VLOOKUP(G11,Kategorie!A:B,2,FALSE)," ") | G11: =C11&E11
A12: 11 | D12: =IF(B12>0,VLOOKUP(G12,Kategorie!A:B,2,FALSE)," ") | G12: =C12&E12
A13: 12 | D13: =IF(B13>0,VLOOKUP(G13,Kategorie!A:B,2,FALSE)," ") | G13: =C13&E13
A14: 13 | D14: =IF(B14>0,VLOOKUP(G14,Kategorie!A:B,2,FALSE)," ") | G14: =C14&E14
... A36: 35 | D36: =IF(B36>0,VLOOKUP(G36,Kategorie!A:B,2,FALSE)," ") | G36: =C36&E36
A37: Vedoucí družstva
A38: Telefon na vedoucího | C38: Vážil/a rozhodčí: | F38: Zváženo dne: | H38: 45247
A39: Pro případné upřesnění losování, …

Sheet Startovní lístky 1-16
A1: ID: | B1: ='Zadání judistů'!D2 -> 34740 | F1: ID: | G1: ='Zadání judistů'!D3 -> 34740 | K1: ID: | L1: ='Zadání judistů'!D4 -> #N/A | P1: ID: | Q1: ='Zadání judistů'!D5 -> #N/A
A2: Kategorie | B2: =IF('Zadání judistů'!$D2>0,'Zadání judistů'!$G2," ") -> Muži | F2: Kategorie | G2: ='Zadání judistů'!G3 -> Muži | K2: Kategorie | L2: ='Zadání judistů'!G4 -> #N/A | P2: Kategorie | Q2: ='Zadání judistů'!G5 -> #N/A
A3: Příjmení a jméno: | F3: Příjmení a jméno: | K3: Příjmení a jméno: | P3: Příjmení a jméno:
A4: =IF('Zadání judistů'!$D2>0,'Zadání judistů'!$E2," ") -> Klíma Miroslav | F4: ='Zadání judistů'!E3 -> Klíma Miroslav | K4: ='Zadání judistů'!E4 -> #N/A | P4: ='Zadání judistů'!E5 -> #N/A
A5: Klub: | F5: Klub: | K5: Klub: | P5: Klub:
A6: =IF('Zadání judistů'!$D2>0,'Zadání judistů'!$I2," ") -> BeF Home Blansko z.s. | F6: ='Zadání judistů'!I3 -> BeF Home Blansko z.s. | K6: ='Zadání judistů'!I4 -> #N/A | P6: ='Zadání judistů'!I5 -> #N/A
A7: Váha: | C7: Rok. Nar: | D7: =IF('Zadání judistů'!$D2>0,'Zadání judistů'!$F2," ") -> 1977 | F7: Váha: | H7: Rok. Nar: | I7: ='Zadání judistů'!F3 -> 1977 | K7: Váha: | M7: Rok. Nar: | N7: ='Zadání judistů'!F4 -> #N/A | P7: Váha: | R7: Rok. Nar: | S7: ='Zadání judistů'!F5 -> #N/A
A9: ID: | B9: ='Zadání judistů'!D6 -> #N/A | F9: ID: | G9: ='Zadání judistů'!D7 -> #N/A | K9: ID: | L9: ='Zadání judistů'!D8 -> #N/A | P9: ID: | Q9: ='Zadání judistů'!D9 -> #N/A
A10: Kategorie | B10: ='Zadání judistů'!G6 -> #N/A | F10: Kategorie | G10: ='Zadání judistů'!G7 -> #N/A | K10: Kategorie | L10: ='Zadání judistů'!G8 -> #N/A | P10: Kategorie | Q10: ='Zadání judistů'!G9 -> #N/A
A11: Příjmení a jméno: | F11: Příjmení a jméno: | K11: Příjmení a jméno: | P11: Příjmení a jméno:
A12: ='Zadání judistů'!E6 -> #N/A | F12: ='Zadání judistů'!E7 -> #N/A | K12: ='Zadání judistů'!E8 -> #N/A | P12: ='Zadání judistů'!E9 -> #N/A
A13: Klub: | F13: Klub: | K13: Klub: | P13: Klub:
A14: ='Zadání judistů'!I6 -> #N/A | F14: ='Zadání judistů'!I7 -> #N/A | K14: ='Zadání judistů'!I8 -> #N/A | P14: ='Zadání judistů'!I9 -> #N/A
A15: Váha: | C15: Rok. Nar: | D15: ='Zadání judistů'!F6 -> #N/A | F15: Váha: | H15: Rok. Nar: | I15: ='Zadání judistů'!F7 -> #N/A | K15: Váha: | M15: Rok. Nar: | N15: ='Zadání judistů'!F8 -> #N/A | P15: Váha: | R15: Rok. Nar: | S15: ='Zadání judistů'!F9 -> #N/A
A17: ID: | B17: ='Zadání judistů'!D10 -> #N/A | F17: ID: | G17: ='Zadání judistů'!D11 -> #N/A | K17: ID: | L17: ='Zadání judistů'!D12 -> #N/A | P17: ID: | Q17: ='Zadání judistů'!D13 -> #N/A
A18: Kategorie | B18: ='Zadání judistů'!G10 -> #N/A | F18: Kategorie | G18: ='Zadání judistů'!G11 -> #N/A | K18: Kategorie | L18: ='Zadání judistů'!G12 -> #N/A | P18: Kategorie | Q18: ='Zadání judistů'!G13 -> #N/A
A19: Příjmení a jméno: | F19: Příjmení a jméno: | K19: Příjmení a jméno: | P19: Příjmení a jméno:
A20: ='Zadání judistů'!E10 -> #N/A | F20: ='Zadání judistů'!E11 -> #N/A | K20: ='Zadání judistů'!E12 -> #N/A | P20: ='Zadání judistů'!E13 -> #N/A
A21: Klub: | F21: Klub: | K21: Klub: | P21: Klub:
A22: ='Zadání judistů'!I10 -> #N/A | F22: ='Zadání judistů'!I11 -> #N/A | K22: ='Zadání judistů'!I12 -> #N/A | P22: ='Zadání judistů'!I13 -> #N/A
A23: Váha: | C23: Rok. Nar: | D23: ='Zadání judistů'!F10 -> #N/A | F23: Váha: | H23: Rok. Nar: | I23: ='Zadání judistů'!F11 -> #N/A | K23: Váha: | M23: Rok. Nar: | N23: ='Zadání judistů'!F12 -> #N/A | P23: Váha: | R23: Rok. Nar: | S23: ='Zadání judistů'!F13 -> #N/A
A25: ID: | B25: ='Zadání judistů'!D14 -> #N/A | F25: ID: | G25: ='Zadání judistů'!D15 -> #N/A | K25: ID: | L25: ='Zadání judistů'!D16 -> #N/A | P25: ID: | Q25: ='Zadání judistů'!D17 -> #N/A
A26: Kategorie | B26: ='Zadání judistů'!G14 -> #N/A | F26: Kategorie | G26: ='Zadání judistů'!G15 -> #N/A | K26: Kategorie | L26: ='Zadání judistů'!G16 -> #N/A | P26: Kategorie | Q26: ='Zadání judistů'!G17 -> #N/A
A27: Příjmení a jméno: | F27: Příjmení a jméno: | K27: Příjmení a jméno: | P27: Příjmení a jméno:
A28: ='Zadání judistů'!E14 -> #N/A | F28: ='Zadání judistů'!E15 -> #N/A | K28: ='Zadání judistů'!E16 -> #N/A | P28: ='Zadání judistů'!E17 -> #N/A
A29: Klub: | F29: Klub: | K29: Klub: | P29: Klub:
A30: ='Zadání judistů'!I14 -> #N/A | F30: ='Zadání judistů'!I15 -> #N/A | K30: ='Zadání judistů'!I16 -> #N/A | P30: ='Zadání judistů'!I17 -> #N/A
A31: Váha: | C31: Rok. Nar: | D31: ='Zadání judistů'!F14 -> #N/A | F31: Váha: | H31: Rok. Nar: | I31: ='Zadání judistů'!F15 -> #N/A | K31: Váha: | M31: Rok. Nar: | N31: ='Zadání judistů'!F16 -> #N/A | P31: Váha: | R31: Rok. Nar: | S31: ='Zadání judistů'!F17 -> #N/A

Sheet Startovní lístky 17-32
A1: ID: | B1: ='Zadání judistů'!D18 -> #N/A | F1: ID: | G1: ='Zadání judistů'!D19 -> #N/A | K1: ID: | L1: ='Zadání judistů'!D20 -> #N/A | P1: ID: | Q1: ='Zadání judistů'!D21 -> #N/A
A2: Kategorie | B2: ='Zadání judistů'!G18 -> #N/A | F2: Kategorie | G2: ='Zadání judistů'!G19 -> #N/A | K2: Kategorie | L2: ='Zadání judistů'!G20 -> #N/A | P2: Kategorie | Q2: ='Zadání judistů'!G21 -> #N/A
A3: Příjmení a jméno: | F3: Příjmení a jméno: | K3: Příjmení a jméno: | P3: Příjmení a jméno:
A4: ='Zadání judistů'!E18 -> #N/A | F4: ='Zadání judistů'!E19 -> #N/A | K4: ='Zadání judistů'!E20 -> #N/A | P4: ='Zadání judistů'!E21 -> #N/A
A5: Klub: | F5: Klub: | K5: Klub: | P5: Klub:
A6: ='Zadání judistů'!I18 -> #N/A | F6: ='Zadání judistů'!I19 -> #N/A | K6: ='Zadání judistů'!I20 -> #N/A | P6: ='Zadání judistů'!I21 -> #N/A
A7: Váha: | C7: Rok. Nar: | D7: ='Zadání judistů'!F18 -> #N/A | F7: Váha: | H7: Rok. Nar: | I7: ='Zadání judistů'!F19 -> #N/A | K7: Váha: | M7: Rok. Nar: | N7: ='Zadání judistů'!F20 -> #N/A | P7: Váha: | R7: Rok. Nar: | S7: ='Zadání judistů'!F21 -> #N/A
A9: ID: | B9: ='Zadání judistů'!D22 -> #N/A | F9: ID: | G9: ='Zadání judistů'!D23 -> #N/A | K9: ID: | L9: ='Zadání judistů'!D24 -> #N/A | P9: ID: | Q9: ='Zadání judistů'!D25 -> #N/A
A10: Kategorie | B10: ='Zadání judistů'!G22 -> #N/A | F10: Kategorie | G10: ='Zadání judistů'!G23 -> #N/A | K10: Kategorie | L10: ='Zadání judistů'!G24 -> #N/A | P10: Kategorie | Q10: ='Zadání judistů'!G25 -> #N/A
A11: Příjmení a jméno: | F11: Příjmení a jméno: | K11: Příjmení a jméno: | P11: Příjmení a jméno:
A12: ='Zadání judistů'!E22 -> #N/A | F12: ='Zadání judistů'!E23 -> #N/A | K12: ='Zadání judistů'!E24 -> #N/A | P12: ='Zadání judistů'!E25 -> #N/A
A13: Klub: | F13: Klub: | K13: Klub: | P13: Klub:
A14: ='Zadání judistů'!I22 -> #N/A | F14: ='Zadání judistů'!I23 -> #N/A | K14: ='Zadání judistů'!I24 -> #N/A | P14: ='Zadání judistů'!I25 -> #N/A
A15: Váha: | C15: Rok. Nar: | D15: ='Zadání judistů'!F22 -> #N/A | F15: Váha: | H15: Rok. Nar: | I15: ='Zadání judistů'!F23 -> #N/A | K15: Váha: | M15: Rok. Nar: | N15: ='Zadání judistů'!F24 -> #N/A | P15: Váha: | R15: Rok. Nar: | S15: ='Zadání judistů'!F25 -> #N/A
A17: ID: | B17: ='Zadání judistů'!D26 -> #N/A | F17: ID: | G17: ='Zadání judistů'!D27 -> #N/A | K17: ID: | L17: ='Zadání judistů'!D28 -> #N/A | P17: ID: | Q17: ='Zadání judistů'!D29 -> #N/A
A18: Kategorie | B18: ='Zadání judistů'!G26 -> #N/A | F18: Kategorie | G18: ='Zadání judistů'!G27 -> #N/A | K18: Kategorie | L18: ='Zadání judistů'!G28 -> #N/A | P18: Kategorie | Q18: ='Zadání judistů'!G29 -> #N/A
A19: Příjmení a jméno: | F19: Příjmení a jméno: | K19: Příjmení a jméno: | P19: Příjmení a jméno:
A20: ='Zadání judistů'!E26 -> #N/A | F20: ='Zadání judistů'!E27 -> #N/A | K20: ='Zadání judistů'!E28 -> #N/A | P20: ='Zadání judistů'!E29 -> #N/A
A21: Klub: | F21: Klub: | K21: Klub: | P21: Klub:
A22: ='Zadání judistů'!I26 -> #N/A | F22: ='Zadání judistů'!I27 -> #N/A | K22: ='Zadání judistů'!I28 -> #N/A | P22: ='Zadání judistů'!I29 -> #N/A
A23: Váha: | C23: Rok. Nar: | D23: ='Zadání judistů'!F26 -> #N/A | F23: Váha: | H23: Rok. Nar: | I23: ='Zadání judistů'!F27 -> #N/A | K23: Váha: | M23: Rok. Nar: | N23: ='Zadání judistů'!F28 -> #N/A | P23: Váha: | R23: Rok. Nar: | S23: ='Zadání judistů'!F29 -> #N/A
A25: ID: | B25: ='Zadání judistů'!D30 -> #N/A | F25: ID: | G25: ='Zadání judistů'!D31 -> #N/A | K25: ID: | L25: ='Zadání judistů'!D35 -> #N/A | P25: ID: | Q25: ='Zadání judistů'!D36 -> #N/A
A26: Kategorie | B26: ='Zadání judistů'!G30 -> #N/A | F26: Kategorie | G26: ='Zadání judistů'!G31 -> #N/A | K26: Kategorie | L26: ='Zadání judistů'!G35 -> #N/A | P26: Kategorie | Q26: ='Zadání judistů'!G36 -> #N/A
A27: Příjmení a jméno: | F27: Příjmení a jméno: | K27: Příjmení a jméno: | P27: Příjmení a jméno:
A28: ='Zadání judistů'!E30 -> #N/A | F28: ='Zadání judistů'!E31 -> #N/A | K28: ='Zadání judistů'!E35 -> #N/A | P28: ='Zadání judistů'!E36 -> #N/A
A29: Klub: | F29: Klub: | K29: Klub: | P29: Klub:
A30: ='Zadání judistů'!I30 -> #N/A | F30: ='Zadání judistů'!I31 -> #N/A | K30: ='Zadání judistů'!I35 -> #N/A | P30: ='Zadání judistů'!I36 -> #N/A
A31: Váha: | C31: Rok. Nar: | D31: ='Zadání judistů'!F30 -> #N/A | F31: Váha: | H31: Rok. Nar: | I31: ='Zadání judistů'!F31 -> #N/A | K31: Váha: | M31: Rok. Nar: | N31: ='Zadání judistů'!F35 -> #N/A | P31: Váha: | R31: Rok. Nar: | S31: ='Zadání judistů'!F36 -> #N/A

Sheet Judokas
A1: ID | B1: Jméno celé | C1: Rok | E1: Klub | F1: Pohl
A2: 28951 | B2: Martínek Pavel | C2: 1973 | D2: 28951 | E2: Univerzitní sportovní klub Praha, spolek | F2: M | H2: Muži | I2: Muž
A3: 28861 | B3: Grassinger Zdeněk | C3: 1955 | D3: 28861 | E3: Judo Club Tatran Praha z.s. | F3: M | H3: Muži | I3: Muž
A4: 28832 | B4: Kocourek Jan | C4: 2000 | D4: 28832 | E4: Judo Club Tatran Praha z.s. | F4: M | H4: Muži | I4: Muž
A5: 28937 | B5: Jákl Petr | C5: 1941 | D5: 28937 | E5: Univerzitní sportovní klub Praha, spolek | F5: M | H5: Muži | I5: Muž
A6: 28944 | B6: Rejchrt Pavel | C6: 1968 | D6: 28944 | E6: Univerzitní sportovní klub Praha, spolek | F6: M | H6: Muži | I6: Muž
A7: 28962 | B7: Hubinka Martin | C7: 1975 | D7: 28962 | E7: Univerzitní sportovní klub Praha, spolek | F7: M | H7: Muži | I7: Muž
A8: 28852 | B8: Kocourek Ondřej | C8: 2002 | D8: 28852 | E8: Judo Club Tatran Praha z.s. | F8: M | H8: Muži | I8: Muž
A9: 29017 | B9: Veselý Zdeněk | C9: 1989 | D9: 29017 | E9: Univerzitní sportovní klub Praha, spolek | F9: M | H9: Muži | I9: Muž
A10: 28967 | B10: Jákl Tomáš | C10: 1976 | D10: 28967 | E10: Univerzitní sportovní klub Praha, spolek | F10: M | H10: Muži | I10: Muž
A11: 28886 | B11: Kocourková Eva | C11: 1976 | D11: 28886 | E11: Judo Club Tatran Praha z.s. | F11: F | H11: Ženy | I11: Žena
A12: 28953 | B12: Lacina Petr | C12: 1973 | D12: 28953 | E12: Univerzitní sportovní klub Praha, spolek | F12: M | H12: Muži | I12: Muž
A13: 29014 | B13: Sedmidubský Václav | C13: 1989 | D13: 29014 | E13: Univerzitní sportovní klub Praha, spolek | F13: M | H13: Muži | I13: Muž
... A23281: 149017 | B23281: Konvičná Pavlína | C23281: 2015 | D23281: 149017 | E23281: TJ Rožnov pod Radhoštěm, spolek | F23281: F | H23281: WU12 | I23281: Žena
A23282: 149018 | B23282: Príkazský William | C23282: 1018 | D23282: 149018 | E23282: Judo club Orion, z.s. | F23282: M | I23282: Muž
A23283: 149019 | B23283: Růžička Richard | C23283: 2019 | D23283: 149019 | E23283: Judo club Orion, z.s. | F23283: M | H23283: U8 | I23283: Muž
A23284: 149020 | B23284: Solomko Bohdan | C23284: 2013 | D23284: 149020 | E23284: SKP Judo Nový Bydžov, z.s. | F23284: M | H23284: MU14 | I23284: Muž
A23285: 149021 | B23285: Kalvach Marek | C23285: 2017 | D23285: 149021 | E23285: SKP Judo Nový Bydžov, z.s. | F23285: M | H23285: U10 | I23285: Muž
A23286: 149022 | B23286: Čurda Tomáš | C23286: 2018 | D23286: 149022 | E23286: ENERGY JUDO TEAM, z.s. | F23286: M | H23286: U10 | I23286: Muž
A23287: 149023 | B23287: Rýpar Max | C23287: 2018 | D23287: 149023 | E23287: ENERGY JUDO TEAM, z.s. | F23287: M | H23287: U10 | I23287: Muž
A23288: 149024 | B23288: Hluší Patrik | C23288: 2017 | D23288: 149024 | E23288: ENERGY JUDO TEAM, z.s. | F23288: M | H23288: U10 | I23288: Muž
A23289: 149025 | B23289: Polák Antonín | C23289: 2016 | D23289: 149025 | E23289: ENERGY JUDO TEAM, z.s. | F23289: M | H23289: MU12 | I23289: Muž
A23290: 149026 | B23290: Polák Stanislav | C23290: 2015 | D23290: 149026 | E23290: ENERGY JUDO TEAM, z.s. | F23290: M | H23290: MU12 | I23290: Muž
A23291: 149027 | B23291: Skácelová Veronika | C23291: 2016 | D23291: 149027 | E23291: ENERGY JUDO TEAM, z.s. | F23291: F | H23291: WU12 | I23291: Žena
A23292: 149028 | B23292: Vrána Jakub | C23292: 2018 | D23292: 149028 | E23292: ENERGY JUDO TEAM, z.s. | F23292: M | H23292: U10 | I23292: Muž
A23293: 149029 | B23293: Lukáš Martin | C23293: 2016 | D23293: 149029 | E23293: ENERGY JUDO TEAM, z.s. | F23293: M | H23293: MU12 | I23293: Muž
A23294: 149030 | B23294: Hofman Tomáš | C23294: 2014 | D23294: 149030 | E23294: TJ LOKOMOTIVA TRUTNOV, z.s. | F23294: M | H23294: MU14 | I23294: Muž
... A24101: 149898 | B24101: Moravcová Marika Sára | C24101: 2011 | D24101: 149898 | E24101: Tělovýchovná jednota Slezan Opava, z.s. | F24101: F | H24101: WU16 | I24101: Žena
A24102: 149899 | B24102: Čentíš Ondřej | C24102: 2020 | D24102: 149899 | E24102: Filip Rubínek | F24102: M | I24102: Muž
A24103: 149900 | B24103: Čentíš Petr | C24103: 2018 | D24103: 149900 | E24103: Filip Rubínek | F24103: M | H24103: U10 | I24103: Muž
A24104: 149901 | B24104: Vorona Vira | C24104: 2018 | D24104: 149901 | E24104: Judo wrestling club z.s. | F24104: F | H24104: U10 | I24104: Žena
A24105: 149902 | B24105: Scheer Jakub | C24105: 2019 | D24105: 149902 | E24105: Judo wrestling club z.s. | F24105: M | H24105: U8 | I24105: Muž
A24106: 149903 | B24106: Chládek Přemysl | C24106: 2017 | D24106: 149903 | E24106: Cobra club Rakovník, z.s. | F24106: M | H24106: U10 | I24106: Muž
A24107: 149904 | B24107: Fidler Stanislav | C24107: 2010 | D24107: 149904 | E24107: Judo club Orlová z.s. | F24107: M | H24107: MU18 | I24107: Muž
A24108: 149905 | B24108: Ďubek Michael | C24108: 2014 | D24108: 149905 | E24108: Judo club Orlová z.s. | F24108: M | H24108: MU14 | I24108: Muž
A24109: 149906 | B24109: Šilha František | C24109: 2018 | D24109: 149906 | E24109: Judo Kladno N 62 z.s. | F24109: M | H24109: U10 | I24109: Muž
A24110: 149907 | B24110: Nemrava Adam | C24110: 2000 | D24110: 149907 | E24110: TJ Spartak Hluk, z. s. | F24110: M | H24110: Muži | I24110: Muž
A24111: 149908 | B24111: Uher Hugo | C24111: 2017 | D24111: 149908 | E24111: TJ Sokol Kostice, z.s. | F24111: M | H24111: U10 | I24111: Muž
A24112: 149909 | B24112: Uher Bruno | C24112: 2018 | D24112: 149909 | E24112: TJ Sokol Kostice, z.s. | F24112: M | H24112: U10 | I24112: Muž
A24113: 149910 | B24113: Marek Štěpán | C24113: 2017 | D24113: 149910 | E24113: TJ Spartak Velká Bíteš, z.s. | F24113: M | H24113: U10 | I24113: Muž
...

Sheet Kategorie
A1: =C1&G1 -> 2019F | B1: Mláďata U8 | C1: =E1-F1 -> 2019 | D1: =TODAY() -> 46282 | E1: =YEAR(D1) -> 2026 | F1: 7 | G1: F
A2: =C2&G2 -> 2019M | B2: Mláďata U8 | C2: =E2-F2 -> 2019 | D2: =TODAY() -> 46282 | E2: =YEAR(D2) -> 2026 | F2: 7 | G2: M
A3: =C3&G3 -> 2018F | B3: Mláďata U10 | C3: =E3-F3 -> 2018 | D3: =TODAY() -> 46282 | E3: =YEAR(D3) -> 2026 | F3: 8 | G3: F
A4: =C4&G4 -> 2018M | B4: Mláďata U10 | C4: =E4-F4 -> 2018 | D4: =TODAY() -> 46282 | E4: =YEAR(D4) -> 2026 | F4: 8 | G4: M
A5: =C5&G5 -> 2017F | B5: Mláďata U10 | C5: =E5-F5 -> 2017 | D5: =TODAY() -> 46282 | E5: =YEAR(D5) -> 2026 | F5: 9 | G5: F
A6: =C6&G6 -> 2017M | B6: Mláďata U10 | C6: =E6-F6 -> 2017 | D6: =TODAY() -> 46282 | E6: =YEAR(D6) -> 2026 | F6: 9 | G6: M
A7: =C7&G7 -> 2016F | B7: Mladší žákyně | C7: =E7-F7 -> 2016 | D7: =TODAY() -> 46282 | E7: =YEAR(D7) -> 2026 | F7: 10 | G7: F
A8: =C8&G8 -> 2016M | B8: Mladší žáci ♂ | C8: =E8-F8 -> 2016 | D8: =TODAY() -> 46282 | E8: =YEAR(D8) -> 2026 | F8: 10 | G8: M
A9: =C9&G9 -> 2015F | B9: Mladší žákyně | C9: =E9-F9 -> 2015 | D9: =TODAY() -> 46282 | E9: =YEAR(D9) -> 2026 | F9: 11 | G9: F
A10: =C10&G10 -> 2015M | B10: Mladší žáci ♂ | C10: =E10-F10 -> 2015 | D10: =TODAY() -> 46282 | E10: =YEAR(D10) -> 2026 | F10: 11 | G10: M
A11: =C11&G11 -> 2014F | B11: Starší žákyně ♀ | C11: =E11-F11 -> 2014 | D11: =TODAY() -> 46282 | E11: =YEAR(D11) -> 2026 | F11: 12 | G11: F
A12: =C12&G12 -> 2014M | B12: Starší žáci ♂ | C12: =E12-F12 -> 2014 | D12: =TODAY() -> 46282 | E12: =YEAR(D12) -> 2026 | F12: 12 | G12: M
... A46: =C46&G46 -> 1997F | B46: Ženy | C46: =E46-F46 -> 1997 | D46: =TODAY() -> 46282 | E46: =YEAR(D46) -> 2026 | F46: 29 | G46: F
A47: =C47&G47 -> 1994M | B47: Muži | C47: 1994 | D47: =TODAY() -> 46282 | E47: =YEAR(D47) -> 2026 | F47: =E47-C47 -> 32 | G47: M
A48: =C48&G48 -> 1994F | B48: Ženy | C48: 1994 | D48: =TODAY() -> 46282 | E48: =YEAR(D48) -> 2026 | F48: =E48-C48 -> 32 | G48: F
A49: =C49&G49 -> 1993M | B49: Muži | C49: =C47-1 -> 1993 | D49: =TODAY() -> 46282 | E49: =YEAR(D49) -> 2026 | F49: =E49-C49 -> 33 | G49: M
A50: =C50&G50 -> 1993F | B50: Ženy | C50: =C48-1 -> 1993 | D50: =TODAY() -> 46282 | E50: =YEAR(D50) -> 2026 | F50: =E50-C50 -> 33 | G50: F
A51: =C51&G51 -> 1992M | B51: Muži | C51: =C49-1 -> 1992 | D51: =TODAY() -> 46282 | E51: =YEAR(D51) -> 2026 | F51: =E51-C51 -> 34 | G51: M
A52: =C52&G52 -> 1992F | B52: Ženy | C52: =C50-1 -> 1992 | D52: =TODAY() -> 46282 | E52: =YEAR(D52) -> 2026 | F52: =E52-C52 -> 34 | G52: F
A53: =C53&G53 -> 1991M | B53: Muži | C53: =C51-1 -> 1991 | D53: =TODAY() -> 46282 | E53: =YEAR(D53) -> 2026 | F53: =E53-C53 -> 35 | G53: M
A54: =C54&G54 -> 1991F | B54: Ženy | C54: =C52-1 -> 1991 | D54: =TODAY() -> 46282 | E54: =YEAR(D54) -> 2026 | F54: =E54-C54 -> 35 | G54: F
A55: =C55&G55 -> 1990M | B55: Muži | C55: =C53-1 -> 1990 | D55: =TODAY() -> 46282 | E55: =YEAR(D55) -> 2026 | F55: =E55-C55 -> 36 | G55: M
A56: =C56&G56 -> 1990F | B56: Ženy | C56: =C54-1 -> 1990 | D56: =TODAY() -> 46282 | E56: =YEAR(D56) -> 2026 | F56: =E56-C56 -> 36 | G56: F
A57: =C57&G57 -> 1989M | B57: Muži | C57: =C55-1 -> 1989 | D57: =TODAY() -> 46282 | E57: =YEAR(D57) -> 2026 | F57: =E57-C57 -> 37 | G57: M
A58: =C58&G58 -> 1989F | B58: Ženy | C58: =C56-1 -> 1989 | D58: =TODAY() -> 46282 | E58: =YEAR(D58) -> 2026 | F58: =E58-C58 -> 37 | G58: F
A59: =C59&G59 -> 1988M | B59: Muži | C59: =C57-1 -> 1988 | D59: =TODAY() -> 46282 | E59: =YEAR(D59) -> 2026 | F59: =E59-C59 -> 38 | G59: M
A60: =C60&G60 -> 1988F | B60: Ženy | C60: =C58-1 -> 1988 | D60: =TODAY() -> 46282 | E60: =YEAR(D60) -> 2026 | F60: =E60-C60 -> 38 | G60: F
... A86: =C86&G86 -> 1975F | B86: Ženy | C86: =C84-1 -> 1975 | D86: =TODAY() -> 46282 | E86: =YEAR(D86) -> 2026 | F86: =E86-C86 -> 51 | G86: F

Sheet Souhrny
A3: Popisky řádků | B3: Počet z Jméno a příjmení
A4: Sportovní klub Jihlava z.s.
A5: Mláďata U11 | B5: 1
A6: BeF Home Blansko z.s.
A7: Muži | B7: 1
A8: Celkový součet | B8: 2
